BEGIN:VCALENDAR
VERSION:2.0
PRODID:-//Angel Wings Outreach - ECPv6.0.4//NONSGML v1.0//EN
CALSCALE:GREGORIAN
METHOD:PUBLISH
X-ORIGINAL-URL:https://angelwingsoutreach.org
X-WR-CALDESC:Events for Angel Wings Outreach
REFRESH-INTERVAL;VALUE=DURATION:PT1H
X-Robots-Tag:noindex
X-PUBLISHED-TTL:PT1H
BEGIN:VTIMEZONE
TZID:UTC
BEGIN:STANDARD
TZOFFSETFROM:+0000
TZOFFSETTO:+0000
TZNAME:UTC
DTSTART:20220101T000000
END:STANDARD
END:VTIMEZONE
BEGIN:VEVENT
DTSTART;TZID=UTC:20220226T100000
DTEND;TZID=UTC:20220226T120000
DTSTAMP:20260420T115527
CREATED:20220201T200018Z
LAST-MODIFIED:20220202T171358Z
UID:394-1645869600-1645876800@angelwingsoutreach.org
SUMMARY:Breakin' Da Chains
DESCRIPTION:Register today for Angel Wings Outreach Center’s Teen Dating Violence Awareness Event\n\nThis year’s theme: “Finding the Missing Peace in My Mental Space”\n\n\nTo register\, click this link and fill out the form submission 
URL:https://angelwingsoutreach.org/event/breakin-da-chains/
END:VEVENT
END:VCALENDAR