BEGIN:VCALENDAR
VERSION:2.0
PRODID:-//Angel Wings Outreach - ECPv6.0.4//NONSGML v1.0//EN
CALSCALE:GREGORIAN
METHOD:PUBLISH
X-WR-CALNAME:Angel Wings Outreach
X-ORIGINAL-URL:https://angelwingsoutreach.org
X-WR-CALDESC:Events for Angel Wings Outreach
REFRESH-INTERVAL;VALUE=DURATION:PT1H
X-Robots-Tag:noindex
X-PUBLISHED-TTL:PT1H
BEGIN:VTIMEZONE
TZID:UTC
BEGIN:STANDARD
TZOFFSETFROM:+0000
TZOFFSETTO:+0000
TZNAME:UTC
DTSTART:20210101T000000
END:STANDARD
END:VTIMEZONE
BEGIN:VEVENT
DTSTART;TZID=UTC:20210813T124500
DTEND;TZID=UTC:20210813T170000
DTSTAMP:20260422T223201
CREATED:20210701T163925Z
LAST-MODIFIED:20210701T163925Z
UID:373-1628858700-1628874000@angelwingsoutreach.org
SUMMARY:Domestic Violence in the Hospitality State: The Reality\, The Law\, The Response
DESCRIPTION:
URL:https://angelwingsoutreach.org/event/domestic-violence-in-the-hospitality-state-the-reality-the-law-the-response/
END:VEVENT
BEGIN:VEVENT
DTSTART;TZID=UTC:20210618T110000
DTEND;TZID=UTC:20210618T180000
DTSTAMP:20260422T223201
CREATED:20210601T144249Z
LAST-MODIFIED:20210603T172027Z
UID:361-1624014000-1624039200@angelwingsoutreach.org
SUMMARY:Summer Camp 2021
DESCRIPTION:
URL:https://angelwingsoutreach.org/event/summer-camp-2021/
LOCATION:National Guard Armory\, 1122 Park Dr.\, Mendenhall\, MS\, United States
END:VEVENT
BEGIN:VEVENT
DTSTART;TZID=UTC:20210617T110000
DTEND;TZID=UTC:20210617T180000
DTSTAMP:20260422T223201
CREATED:20210601T144449Z
LAST-MODIFIED:20210603T172343Z
UID:359-1623927600-1623952800@angelwingsoutreach.org
SUMMARY:Summer Camp 2021
DESCRIPTION:
URL:https://angelwingsoutreach.org/event/summer-camp-2021-2/
LOCATION:National Guard Armory\, 1122 Park Dr.\, Mendenhall\, MS\, United States
END:VEVENT
BEGIN:VEVENT
DTSTART;TZID=UTC:20210611T110000
DTEND;TZID=UTC:20210611T180000
DTSTAMP:20260422T223201
CREATED:20210601T144523Z
LAST-MODIFIED:20210603T172420Z
UID:357-1623409200-1623434400@angelwingsoutreach.org
SUMMARY:Summer Camp 2021
DESCRIPTION:
URL:https://angelwingsoutreach.org/event/summer-camp-2021-3/
LOCATION:National Guard Armory\, 1122 Park Dr.\, Mendenhall\, MS\, United States
END:VEVENT
BEGIN:VEVENT
DTSTART;TZID=UTC:20210610T110000
DTEND;TZID=UTC:20210610T180000
DTSTAMP:20260422T223201
CREATED:20210601T144544Z
LAST-MODIFIED:20210603T172508Z
UID:352-1623322800-1623348000@angelwingsoutreach.org
SUMMARY:Summer Camp 2021
DESCRIPTION:
URL:https://angelwingsoutreach.org/event/summer-camp-2021-4/
LOCATION:National Guard Armory\, 1122 Park Dr.\, Mendenhall\, MS\, United States
END:VEVENT
BEGIN:VEVENT
DTSTART;TZID=UTC:20210424T100000
DTEND;TZID=UTC:20210424T123000
DTSTAMP:20260422T223201
CREATED:20210419T194333Z
LAST-MODIFIED:20210419T194333Z
UID:335-1619258400-1619267400@angelwingsoutreach.org
SUMMARY:Teen Dating Summit
DESCRIPTION:
URL:https://angelwingsoutreach.org/event/teen-dating-summit/
END:VEVENT
END:VCALENDAR